BEGIN:VCALENDAR
VERSION:2.0
PRODID:-//Albany County Democratic Committee - ECPv6.7.0//NONSGML v1.0//EN
CALSCALE:GREGORIAN
METHOD:PUBLISH
X-WR-CALNAME:Albany County Democratic Committee
X-ORIGINAL-URL:https://albanycountydemocrats.org
X-WR-CALDESC:Events for Albany County Democratic Committee
REFRESH-INTERVAL;VALUE=DURATION:PT1H
X-Robots-Tag:noindex
X-PUBLISHED-TTL:PT1H
BEGIN:VTIMEZONE
TZID:America/New_York
BEGIN:DAYLIGHT
TZOFFSETFROM:-0500
TZOFFSETTO:-0400
TZNAME:EDT
DTSTART:20220313T070000
END:DAYLIGHT
BEGIN:STANDARD
TZOFFSETFROM:-0400
TZOFFSETTO:-0500
TZNAME:EST
DTSTART:20221106T060000
END:STANDARD
BEGIN:DAYLIGHT
TZOFFSETFROM:-0500
TZOFFSETTO:-0400
TZNAME:EDT
DTSTART:20230312T070000
END:DAYLIGHT
BEGIN:STANDARD
TZOFFSETFROM:-0400
TZOFFSETTO:-0500
TZNAME:EST
DTSTART:20231105T060000
END:STANDARD
END:VTIMEZONE
BEGIN:VEVENT
DTSTART;TZID=America/New_York:20230611T140000
DTEND;TZID=America/New_York:20230611T170000
DTSTAMP:20260425T192556
CREATED:20230508T141141Z
LAST-MODIFIED:20230508T141141Z
UID:2201-1686492000-1686502800@albanycountydemocrats.org
SUMMARY:New Scotland Democrats Spring Fundraiser
DESCRIPTION:New Scotland Dems Picnic Flyer
URL:https://albanycountydemocrats.org/event/new-scotland-democrats-spring-fundraiser/
LOCATION:Charley Houghtaling Town Park\, 63 Mathias Place\, Feura Bush
END:VEVENT
BEGIN:VEVENT
DTSTART;TZID=America/New_York:20230606T080000
DTEND;TZID=America/New_York:20230606T093000
DTSTAMP:20260425T192556
CREATED:20230520T160220Z
LAST-MODIFIED:20230602T121613Z
UID:2239-1686038400-1686043800@albanycountydemocrats.org
SUMMARY:Inaugural Chairmans Club Breakfast
DESCRIPTION:
URL:https://albanycountydemocrats.org/event/chairmans-club-breakfast/
LOCATION:War Room Tavern\, 42 Eagle Street\, Albany\, NY
END:VEVENT
BEGIN:VEVENT
DTSTART;TZID=America/New_York:20230601T170000
DTEND;TZID=America/New_York:20230601T210000
DTSTAMP:20260425T192556
CREATED:20230520T160051Z
LAST-MODIFIED:20230520T160051Z
UID:2235-1685638800-1685653200@albanycountydemocrats.org
SUMMARY:Fundraiser in Support of Celeste T. Barrett-Tolliver
DESCRIPTION:
URL:https://albanycountydemocrats.org/event/fundraiser-in-support-of-celeste-t-barrett-tolliver/
LOCATION:Gateway Diner\, 899 Central Avenue\, Albany\, New York\, 12206
END:VEVENT
BEGIN:VEVENT
DTSTART;TZID=America/New_York:20230525T170000
DTEND;TZID=America/New_York:20230525T190000
DTSTAMP:20260425T192556
CREATED:20230508T134453Z
LAST-MODIFIED:20230520T160944Z
UID:2196-1685034000-1685041200@albanycountydemocrats.org
SUMMARY:Jake Crawford for Guilderland Town Board
DESCRIPTION:
URL:https://albanycountydemocrats.org/event/jake-crawford-for-guilderland-town-board/
LOCATION:Orchard Tavern West\, 2050 Western Avenue\, Guilderland\, New York\, 12084
END:VEVENT
BEGIN:VEVENT
DTSTART;TZID=America/New_York:20230521T150000
DTEND;TZID=America/New_York:20230521T170000
DTSTAMP:20260425T192556
CREATED:20230520T161422Z
LAST-MODIFIED:20230520T161422Z
UID:2248-1684681200-1684688400@albanycountydemocrats.org
SUMMARY:Tom Schnurr for Bethlehem Town Board
DESCRIPTION:
URL:https://albanycountydemocrats.org/event/tom-schnurr-for-bethlehem-town-board/
LOCATION:518 Huron Road\, Delmar\, New York 12054\, 518 Huron Road\, Delmar\, New York\, 12054
END:VEVENT
BEGIN:VEVENT
DTSTART;VALUE=DATE:20230515
DTEND;VALUE=DATE:20230516
DTSTAMP:20260425T192556
CREATED:20230323T163610Z
LAST-MODIFIED:20230323T163825Z
UID:2176-1684108800-1684195199@albanycountydemocrats.org
SUMMARY:Daniel P. McCoy Golf Classic
DESCRIPTION:
URL:https://albanycountydemocrats.org/event/daniel-p-mccoy-golf-classic/
LOCATION:Schuyler Meadows Club\, 17 Schuyler Meadows Road\, Loudonville\, New York
END:VEVENT
BEGIN:VEVENT
DTSTART;TZID=America/New_York:20230504T170000
DTEND;TZID=America/New_York:20230504T190000
DTSTAMP:20260425T192556
CREATED:20230405T135402Z
LAST-MODIFIED:20230405T135402Z
UID:2188-1683219600-1683226800@albanycountydemocrats.org
SUMMARY:Bethlehem Democratic Committee Spring Fundraiser
DESCRIPTION:
URL:https://albanycountydemocrats.org/event/bethlehem-democratic-committee-spring-fundraiser/
LOCATION:Rooted and Rind\, 14 Booth Road\, Delmar\, New York\, 12054
END:VEVENT
BEGIN:VEVENT
DTSTART;TZID=America/New_York:20230413T170000
DTEND;TZID=America/New_York:20230413T190000
DTSTAMP:20260425T192556
CREATED:20230405T134741Z
LAST-MODIFIED:20230405T134741Z
UID:2182-1681405200-1681412400@albanycountydemocrats.org
SUMMARY:Fundraiser for Gustavo “Gus” Santos
DESCRIPTION:Gus Santos flyer
URL:https://albanycountydemocrats.org/event/fundraiser-for-gustavo-gus-santos/
LOCATION:Jacob and Anthony’s\, 1475 Western Avenue\, Albany\, New York\, 12203
END:VEVENT
BEGIN:VEVENT
DTSTART;TZID=America/New_York:20230327T180000
DTEND;TZID=America/New_York:20230327T200000
DTSTAMP:20260425T192556
CREATED:20230227T151621Z
LAST-MODIFIED:20230227T151621Z
UID:2129-1679940000-1679947200@albanycountydemocrats.org
SUMMARY:County Legislator Dustin Reidy Re-Election Campaign Launch
DESCRIPTION:
URL:https://albanycountydemocrats.org/event/county-legislator-dustin-reidy-re-election-campaign-launch/
LOCATION:Orchard Tavern West\, 2050 Western Avenue\, Guilderland\, New York\, 12084
END:VEVENT
BEGIN:VEVENT
DTSTART;TZID=America/New_York:20230324T173000
DTEND;TZID=America/New_York:20230324T193000
DTSTAMP:20260425T192556
CREATED:20230306T160435Z
LAST-MODIFIED:20230306T160435Z
UID:2140-1679679000-1679686200@albanycountydemocrats.org
SUMMARY:March Social at the Warbler
DESCRIPTION:This event is being hosted by the Albany County Young Democrats.
URL:https://albanycountydemocrats.org/event/march-social-at-the-warbler/
LOCATION:The Warbler Brewery\, 155 Delaware Avenue\, Delmar\, New York\, 12054
END:VEVENT
BEGIN:VEVENT
DTSTART;TZID=America/New_York:20230322T170000
DTEND;TZID=America/New_York:20230322T190000
DTSTAMP:20260425T192556
CREATED:20230228T182823Z
LAST-MODIFIED:20230228T182850Z
UID:2135-1679504400-1679511600@albanycountydemocrats.org
SUMMARY:Kickoff Fundraiser - Re-elect Susan Rizzo
DESCRIPTION:
URL:https://albanycountydemocrats.org/event/kickoff-fundraiser-re-elect-susan-rizzo/
LOCATION:Martel’s Restaurant at Capital Hills\, 65 O’Neill Road\, Albany\, New York
END:VEVENT
BEGIN:VEVENT
DTSTART;TZID=America/New_York:20230304T110000
DTEND;TZID=America/New_York:20230304T140000
DTSTAMP:20260425T192556
CREATED:20230208T162641Z
LAST-MODIFIED:20230208T163034Z
UID:2108-1677927600-1677938400@albanycountydemocrats.org
SUMMARY:Albany County Executive Daniel P. McCoy's St. Patrick's Day Re-Election Fundraiser
DESCRIPTION:
URL:https://albanycountydemocrats.org/event/albany-county-executive-daniel-p-mccoys-st-patricks-day-re-election-fundraiser/
LOCATION:The Ancient Order of Hibernian’s Hall\, 375 Ontario Street\, Albany\, New York\, 12208
END:VEVENT
BEGIN:VEVENT
DTSTART;TZID=America/New_York:20230223T170000
DTEND;TZID=America/New_York:20230223T190000
DTSTAMP:20260425T192556
CREATED:20230214T172846Z
LAST-MODIFIED:20230214T172846Z
UID:2119-1677171600-1677178800@albanycountydemocrats.org
SUMMARY:Campaign Kick-Off reception in honor of Congressman Paul D. Tonko
DESCRIPTION:
URL:https://albanycountydemocrats.org/event/campaign-kick-off-reception-in-honor-of-congressman-paul-d-tonko/
LOCATION:The Warbler Brewery\, 155 Delaware Avenue\, Delmar\, New York\, 12054
END:VEVENT
BEGIN:VEVENT
DTSTART;TZID=America/New_York:20230216T190000
DTEND;TZID=America/New_York:20230216T203000
DTSTAMP:20260425T192556
CREATED:20221213T115627Z
LAST-MODIFIED:20221213T122433Z
UID:2036-1676574000-1676579400@albanycountydemocrats.org
SUMMARY:ACDC Meeting
DESCRIPTION:
URL:https://albanycountydemocrats.org/event/acdc-meeting/
LOCATION:Capital District Celtic Hall\, 430 New Karner Road\, Albany\, New York\, 12205
END:VEVENT
BEGIN:VEVENT
DTSTART;TZID=America/New_York:20230216T174500
DTEND;TZID=America/New_York:20230216T184500
DTSTAMP:20260425T192556
CREATED:20230206T144401Z
LAST-MODIFIED:20230206T144401Z
UID:2103-1676569500-1676573100@albanycountydemocrats.org
SUMMARY:Bethlehem Democratic Committee Meeting
DESCRIPTION:
URL:https://albanycountydemocrats.org/event/bethlehem-democratic-committee-meeting/
LOCATION:Capital District Celtic Hall\, 430 New Karner Road\, Albany\, New York\, 12205
END:VEVENT
BEGIN:VEVENT
DTSTART;TZID=America/New_York:20230215T173000
DTEND;TZID=America/New_York:20230215T193000
DTSTAMP:20260425T192556
CREATED:20230206T144228Z
LAST-MODIFIED:20230206T144228Z
UID:2101-1676482200-1676489400@albanycountydemocrats.org
SUMMARY:February Social and General Meeting
DESCRIPTION:Join the Albany County Young Democrats at the newly opened War Room to socialize and learn what the Albany County Young Democrats are up to!
URL:https://albanycountydemocrats.org/event/february-social-and-general-meeting/
LOCATION:War Room Tavern\, 42 Eagle Street\, Albany\, NY
END:VEVENT
BEGIN:VEVENT
DTSTART;TZID=America/New_York:20221222T180000
DTEND;TZID=America/New_York:20221222T200000
DTSTAMP:20260425T192556
CREATED:20221209T190608Z
LAST-MODIFIED:20221213T122516Z
UID:2028-1671732000-1671739200@albanycountydemocrats.org
SUMMARY:Annual Holiday Party and Fundraiser
DESCRIPTION:
URL:https://albanycountydemocrats.org/event/annual-holiday-party-and-fundraiser/
LOCATION:The Lionheart Pub and Brewery\, 448 Madison Avenue\, Albany\, New York
END:VEVENT
BEGIN:VEVENT
DTSTART;TZID=America/New_York:20221217T100000
DTEND;TZID=America/New_York:20221217T120000
DTSTAMP:20260425T192556
CREATED:20221209T190259Z
LAST-MODIFIED:20221213T122601Z
UID:2025-1671271200-1671278400@albanycountydemocrats.org
SUMMARY:ACDC Holiday Toy Drive
DESCRIPTION:
URL:https://albanycountydemocrats.org/event/acdc-holiday-toy-drive/
LOCATION:Headquarters\, 21 Colvin Avenue\, Albany\, New York
END:VEVENT
BEGIN:VEVENT
DTSTART;TZID=America/New_York:20221215T180000
DTEND;TZID=America/New_York:20221215T180000
DTSTAMP:20260425T192556
CREATED:20221115T164339Z
LAST-MODIFIED:20221213T122635Z
UID:1950-1671127200-1671127200@albanycountydemocrats.org
SUMMARY:Guilderland Democratic Committee Holiday Party
DESCRIPTION:
URL:https://albanycountydemocrats.org/event/guilderland-democratic-committee-holiday-party/
LOCATION:Orchard Tavern West\, 2050 Western Avenue\, Guilderland\, New York\, 12084
END:VEVENT
BEGIN:VEVENT
DTSTART;TZID=America/New_York:20221214T190000
DTEND;TZID=America/New_York:20221214T213000
DTSTAMP:20260425T192556
CREATED:20221213T122726Z
LAST-MODIFIED:20221213T122726Z
UID:2017-1671044400-1671053400@albanycountydemocrats.org
SUMMARY:Councilman Owusu Anane's Holiday Party
DESCRIPTION:
URL:https://albanycountydemocrats.org/event/councilman-owusu-ananes-holiday-party-2/
LOCATION:8 Thurlow Terrace\, 8 Thurlow Terrace\, Albany\, New York
END:VEVENT
BEGIN:VEVENT
DTSTART;TZID=America/New_York:20221214T190000
DTEND;TZID=America/New_York:20221214T213000
DTSTAMP:20260425T192556
CREATED:20221209T190016Z
LAST-MODIFIED:20221213T122258Z
UID:2023-1671044400-1671053400@albanycountydemocrats.org
SUMMARY:Councilman Owusu Anane's Holiday Party
DESCRIPTION:
URL:https://albanycountydemocrats.org/event/councilman-owusu-ananes-holiday-party/
LOCATION:The Argus Hotel\, 8 Thurlow Terrace\, Albany\, New York
END:VEVENT
END:VCALENDAR