BEGIN:VCALENDAR
VERSION:2.0
PRODID:-//Albany County Democratic Committee - ECPv6.7.0//NONSGML v1.0//EN
CALSCALE:GREGORIAN
METHOD:PUBLISH
X-WR-CALNAME:Albany County Democratic Committee
X-ORIGINAL-URL:https://albanycountydemocrats.org
X-WR-CALDESC:Events for Albany County Democratic Committee
REFRESH-INTERVAL;VALUE=DURATION:PT1H
X-Robots-Tag:noindex
X-PUBLISHED-TTL:PT1H
BEGIN:VTIMEZONE
TZID:America/New_York
BEGIN:DAYLIGHT
TZOFFSETFROM:-0500
TZOFFSETTO:-0400
TZNAME:EDT
DTSTART:20230312T070000
END:DAYLIGHT
BEGIN:STANDARD
TZOFFSETFROM:-0400
TZOFFSETTO:-0500
TZNAME:EST
DTSTART:20231105T060000
END:STANDARD
END:VTIMEZONE
BEGIN:VEVENT
DTSTART;TZID=America/New_York:20231104T110000
DTEND;TZID=America/New_York:20231104T140000
DTSTAMP:20260425T193510
CREATED:20231023T180832Z
LAST-MODIFIED:20231023T180832Z
UID:2821-1699095600-1699106400@albanycountydemocrats.org
SUMMARY:GOTV for New Scotland and Albany County Democrats
DESCRIPTION:
URL:https://albanycountydemocrats.org/event/gotv-for-new-scotland-and-albany-county-democrats/
LOCATION:Voorheesville Hannaford Parking Lot
END:VEVENT
BEGIN:VEVENT
DTSTART;TZID=America/New_York:20231104T100000
DTEND;TZID=America/New_York:20231104T170000
DTSTAMP:20260425T193510
CREATED:20231101T170906Z
LAST-MODIFIED:20231101T170906Z
UID:2907-1699092000-1699117200@albanycountydemocrats.org
SUMMARY:GOTV in Guilderland!
DESCRIPTION:No
URL:https://albanycountydemocrats.org/event/gotv-in-guilderland/
LOCATION:Stuyvesant Plaza Parking Lot\, 1475 Western Avenue\, Albany\, New York
END:VEVENT
BEGIN:VEVENT
DTSTART;TZID=America/New_York:20231103T173000
DTEND;TZID=America/New_York:20231103T193000
DTSTAMP:20260425T193510
CREATED:20231025T121209Z
LAST-MODIFIED:20231028T115040Z
UID:2831-1699032600-1699039800@albanycountydemocrats.org
SUMMARY:GOTV Fundraiser for Wanda Willingham
DESCRIPTION:
URL:https://albanycountydemocrats.org/event/gotv-fundraiser-for-wanda-willingham/
LOCATION:North Albany American Legion Post 1610\, 36 N. First Street\, Albany\, New York
END:VEVENT
BEGIN:VEVENT
DTSTART;TZID=America/New_York:20231101T173000
DTEND;TZID=America/New_York:20231101T193000
DTSTAMP:20260425T193510
CREATED:20231030T171623Z
LAST-MODIFIED:20231030T171623Z
UID:2902-1698859800-1698867000@albanycountydemocrats.org
SUMMARY:Fundraiser in Support of Sam Fein’s Re-Election
DESCRIPTION:
URL:https://albanycountydemocrats.org/event/fundraiser-in-support-of-sam-feins-re-election/
LOCATION:Hill Street Cafe\, 180 Madison Avenue\, Albany\, NY
END:VEVENT
BEGIN:VEVENT
DTSTART;TZID=America/New_York:20231028T120000
DTEND;TZID=America/New_York:20231028T140000
DTSTAMP:20260425T193510
CREATED:20231023T181125Z
LAST-MODIFIED:20231023T181125Z
UID:2824-1698494400-1698501600@albanycountydemocrats.org
SUMMARY:GOTV for Supreme Court Candidates
DESCRIPTION:
URL:https://albanycountydemocrats.org/event/gotv-for-supreme-court-candidates/
LOCATION:Headquarters\, 21 Colvin Avenue\, Albany\, New York
END:VEVENT
BEGIN:VEVENT
DTSTART;TZID=America/New_York:20231026T173000
DTEND;TZID=America/New_York:20231026T193000
DTSTAMP:20260425T193510
CREATED:20231026T130647Z
LAST-MODIFIED:20231026T130647Z
UID:2835-1698341400-1698348600@albanycountydemocrats.org
SUMMARY:Birthday Celebration in Honor of David Soares
DESCRIPTION:
URL:https://albanycountydemocrats.org/event/birthday-celebration-in-honor-of-david-soares/
LOCATION:The Copper Crow\, 904 Broadway\, Albany\, NY
END:VEVENT
BEGIN:VEVENT
DTSTART;TZID=America/New_York:20231022T160000
DTEND;TZID=America/New_York:20231022T190000
DTSTAMP:20260425T193510
CREATED:20230925T200710Z
LAST-MODIFIED:20231016T153834Z
UID:2617-1697990400-1698001200@albanycountydemocrats.org
SUMMARY:Rocks presents "17 Years of Meet the Candidates"
DESCRIPTION:
URL:https://albanycountydemocrats.org/event/save-the-date-rocks-presents-17-years-of-meet-the-candidates/
LOCATION:Rocks\, 77 Central Avenue\, Albany\, NY
END:VEVENT
BEGIN:VEVENT
DTSTART;TZID=America/New_York:20231022T100000
DTEND;TZID=America/New_York:20231022T170000
DTSTAMP:20260425T193510
CREATED:20231003T151911Z
LAST-MODIFIED:20231003T151911Z
UID:2768-1697968800-1697994000@albanycountydemocrats.org
SUMMARY:Get Out The Vote (GOTV) in Bethlehem Day #2!
DESCRIPTION:
URL:https://albanycountydemocrats.org/event/get-out-the-vote-gotv-in-bethlehem-day-2/
LOCATION:The Real McCoy Beer Co.\, 20 Hallwood Road\, Delmar\, NY
END:VEVENT
BEGIN:VEVENT
DTSTART;TZID=America/New_York:20231021T140000
DTEND;TZID=America/New_York:20231021T160000
DTSTAMP:20260425T193510
CREATED:20231016T144610Z
LAST-MODIFIED:20231016T144610Z
UID:2810-1697896800-1697904000@albanycountydemocrats.org
SUMMARY:Labor’s GOTV for Elect Daniel Lynch
DESCRIPTION:
URL:https://albanycountydemocrats.org/event/labors-gotv-for-elect-daniel-lynch/
LOCATION:LiUNA 190 Pavillion\, 668 Wemple Road\, Glenmont\, New York
END:VEVENT
BEGIN:VEVENT
DTSTART;TZID=America/New_York:20231018T173000
DTEND;TZID=America/New_York:20231018T193000
DTSTAMP:20260425T193510
CREATED:20231011T155311Z
LAST-MODIFIED:20231011T155311Z
UID:2806-1697650200-1697657400@albanycountydemocrats.org
SUMMARY:Fundraiser in Support of Judge Sherri Brooks-Morton
DESCRIPTION:
URL:https://albanycountydemocrats.org/event/fundraiser-in-support-of-judge-sherri-brooks-morton/
LOCATION:Madison Theatre\, 1036 Madison Avenue\, Albany\, New York
END:VEVENT
BEGIN:VEVENT
DTSTART;TZID=America/New_York:20231017T173000
DTEND;TZID=America/New_York:20231017T193000
DTSTAMP:20260425T193510
CREATED:20231011T155026Z
LAST-MODIFIED:20231011T155026Z
UID:2802-1697563800-1697571000@albanycountydemocrats.org
SUMMARY:Fundraiser in Support of Matthew Miller and Jeffrey Kuhn
DESCRIPTION:
URL:https://albanycountydemocrats.org/event/fundraiser-in-support-of-matthew-miller-and-jeffrey-kuhn/
LOCATION:The Warbler Brewery\, 155 Delaware Avenue\, Delmar\, New York\, 12054
END:VEVENT
BEGIN:VEVENT
DTSTART;TZID=America/New_York:20231017T170000
DTEND;TZID=America/New_York:20231017T190000
DTSTAMP:20260425T193510
CREATED:20230922T121558Z
LAST-MODIFIED:20231006T191656Z
UID:2598-1697562000-1697569200@albanycountydemocrats.org
SUMMARY:Fundraiser to Support Re-Election of Susan Rizzo
DESCRIPTION:
URL:https://albanycountydemocrats.org/event/fundraiser-to-support-re-election-of-susan-russo/
LOCATION:Rudy’s V&R Restaurant – WAIBS hall\, 50 Exchange Street\, Albany\, New York
END:VEVENT
BEGIN:VEVENT
DTSTART;TZID=America/New_York:20231014T120000
DTEND;TZID=America/New_York:20231014T150000
DTSTAMP:20260425T193510
CREATED:20230924T202409Z
LAST-MODIFIED:20230924T202409Z
UID:2602-1697284800-1697295600@albanycountydemocrats.org
SUMMARY:Colonie Democratic Committee Murphy-Brown Picnic
DESCRIPTION:
URL:https://albanycountydemocrats.org/event/colonie-democratic-committee-murphy-brown-picnic/
LOCATION:Shaker Road-Loudonville Fire Dept.\, 146 Old Niskayuna Road\, Loudonville\, New York\, 12211
END:VEVENT
BEGIN:VEVENT
DTSTART;TZID=America/New_York:20231012T180000
DTEND;TZID=America/New_York:20231012T203000
DTSTAMP:20260425T193510
CREATED:20230918T130106Z
LAST-MODIFIED:20230918T130106Z
UID:2591-1697133600-1697142600@albanycountydemocrats.org
SUMMARY:Guilderland Democratic Awards Reception
DESCRIPTION:
URL:https://albanycountydemocrats.org/event/guilderland-democratic-awards-reception/
LOCATION:Hedge Bistro – Western Turnpike Golf Course\, 2350 Western Avenue\, Guilderland\, New York
END:VEVENT
BEGIN:VEVENT
DTSTART;TZID=America/New_York:20231008T100000
DTEND;TZID=America/New_York:20231008T170000
DTSTAMP:20260425T193510
CREATED:20231003T151737Z
LAST-MODIFIED:20231003T151737Z
UID:2765-1696759200-1696784400@albanycountydemocrats.org
SUMMARY:Get Out The Vote (GOTV) in Bethlehem
DESCRIPTION:
URL:https://albanycountydemocrats.org/event/get-out-the-vote-gotv-in-bethlehem/
LOCATION:The Real McCoy Beer Co.\, 20 Hallwood Road\, Delmar\, NY
END:VEVENT
BEGIN:VEVENT
DTSTART;TZID=America/New_York:20231005T173000
DTEND;TZID=America/New_York:20231005T193000
DTSTAMP:20260425T193510
CREATED:20230915T184430Z
LAST-MODIFIED:20230915T184430Z
UID:2585-1696527000-1696534200@albanycountydemocrats.org
SUMMARY:Bethlehem Democratic Committee Oktoberfest
DESCRIPTION:
URL:https://albanycountydemocrats.org/event/bethlehem-democratic-committee-oktoberfest/
LOCATION:The Real McCoy Beer Co.\, 20 Hallwood Road\, Delmar\, NY
END:VEVENT
BEGIN:VEVENT
DTSTART;TZID=America/New_York:20230930T090000
DTEND;TZID=America/New_York:20230930T170000
DTSTAMP:20260425T193510
CREATED:20230912T005217Z
LAST-MODIFIED:20230924T202531Z
UID:2565-1696064400-1696093200@albanycountydemocrats.org
SUMMARY:Colonie Democratic Committee “Day of Action” Campaign Kickoff
DESCRIPTION:
URL:https://albanycountydemocrats.org/event/day-of-action-campaign-kickoff/
LOCATION:Professor Java’s Sanctuary\, 45 Wolf Road\, Shoppers Park\, Albany\, NY
END:VEVENT
BEGIN:VEVENT
DTSTART;TZID=America/New_York:20230928T170000
DTEND;TZID=America/New_York:20230928T190000
DTSTAMP:20260425T193510
CREATED:20230912T010259Z
LAST-MODIFIED:20230912T010259Z
UID:2581-1695920400-1695927600@albanycountydemocrats.org
SUMMARY:Green Island Democratic Fall Buffet
DESCRIPTION:
URL:https://albanycountydemocrats.org/event/green-island-democratic-fall-buffet/
LOCATION:The Green Island American Legion\, 35 Cohoes Avenue\, Green Island\, NY
END:VEVENT
BEGIN:VEVENT
DTSTART;TZID=America/New_York:20230928T170000
DTEND;TZID=America/New_York:20230928T190000
DTSTAMP:20260425T193510
CREATED:20230912T010011Z
LAST-MODIFIED:20230912T010011Z
UID:2578-1695920400-1695927600@albanycountydemocrats.org
SUMMARY:Fundraiser in Support of Dorcy Applyrs
DESCRIPTION:
URL:https://albanycountydemocrats.org/event/fundraiser-in-support-of-dorcy-applyrs/
LOCATION:The Argus\, 8 Thurlow Terrace\, Albany
END:VEVENT
BEGIN:VEVENT
DTSTART;TZID=America/New_York:20230927T180000
DTEND;TZID=America/New_York:20230927T210000
DTSTAMP:20260425T193510
CREATED:20230912T005812Z
LAST-MODIFIED:20230919T012026Z
UID:2574-1695837600-1695848400@albanycountydemocrats.org
SUMMARY:Gabriella Romero’s Summer Salsa Celebration
DESCRIPTION:
URL:https://albanycountydemocrats.org/event/gabriella-romeros-summer-salsa-celebration/
LOCATION:The Women’s Club of Albany\, 721 Madison Avenue\, Albany\, NY
END:VEVENT
BEGIN:VEVENT
DTSTART;TZID=America/New_York:20230927T173000
DTEND;TZID=America/New_York:20230927T193000
DTSTAMP:20260425T193510
CREATED:20230924T202825Z
LAST-MODIFIED:20230924T202825Z
UID:2607-1695835800-1695843000@albanycountydemocrats.org
SUMMARY:Fundraiser in Support of Supreme Court Candidate Richard Rivera
DESCRIPTION:
URL:https://albanycountydemocrats.org/event/fundraiser-in-support-of-supreme-court-candidate-richard-rivera/
LOCATION:Toro Cantina\, 111 Wolf Road\, Albany\, NY
END:VEVENT
BEGIN:VEVENT
DTSTART;VALUE=DATE:20230927
DTEND;VALUE=DATE:20230928
DTSTAMP:20260425T193510
CREATED:20230831T130855Z
LAST-MODIFIED:20230831T131138Z
UID:2548-1695772800-1695859199@albanycountydemocrats.org
SUMMARY:Albany County Sheriff Craig D. Apple\, Sr. 10th Annual Fall Classic
DESCRIPTION:
URL:https://albanycountydemocrats.org/event/albany-county-sheriff-craig-d-apple-sr-10th-annual-fall-classic/
LOCATION:Normanside Country Club\, Delmar\, New York
END:VEVENT
BEGIN:VEVENT
DTSTART;TZID=America/New_York:20230924T103000
DTEND;TZID=America/New_York:20230924T170000
DTSTAMP:20260425T193510
CREATED:20230915T184823Z
LAST-MODIFIED:20230915T184823Z
UID:2588-1695551400-1695574800@albanycountydemocrats.org
SUMMARY:Guilderland Democrats Day of Action
DESCRIPTION:
URL:https://albanycountydemocrats.org/event/guilderland-democrats-day-of-action/
LOCATION:Orchard Tavern West\, 2050 Western Avenue\, Guilderland\, New York\, 12084
END:VEVENT
BEGIN:VEVENT
DTSTART;TZID=America/New_York:20230923T120000
DTEND;TZID=America/New_York:20230923T160000
DTSTAMP:20260425T193510
CREATED:20230725T111248Z
LAST-MODIFIED:20230725T111248Z
UID:2327-1695470400-1695484800@albanycountydemocrats.org
SUMMARY:ACDC Annual Picnic
DESCRIPTION:
URL:https://albanycountydemocrats.org/event/acdc-annual-picnic/
LOCATION:Local 190 Training Facility\, 668 Wemple Road\, Glenmont\, New York\, 12207
END:VEVENT
BEGIN:VEVENT
DTSTART;TZID=America/New_York:20230921T180000
DTEND;TZID=America/New_York:20230921T200000
DTSTAMP:20260425T193510
CREATED:20230920T005312Z
LAST-MODIFIED:20230920T005312Z
UID:2595-1695319200-1695326400@albanycountydemocrats.org
SUMMARY:Fundraiser in Support of Councilman Adam Biggs
DESCRIPTION:
URL:https://albanycountydemocrats.org/event/fundraiser-in-support-of-councilman-adam-biggs/
LOCATION:Smith’s Public House\, 171 Remsen Street\, Cohoes\, NY
END:VEVENT
BEGIN:VEVENT
DTSTART;TZID=America/New_York:20230920T173000
DTEND;TZID=America/New_York:20230920T193000
DTSTAMP:20260425T193510
CREATED:20230912T004640Z
LAST-MODIFIED:20230912T004640Z
UID:2561-1695231000-1695238200@albanycountydemocrats.org
SUMMARY:Fundraiser for Supreme Court candidate Sherri Brooks-Morton
DESCRIPTION:
URL:https://albanycountydemocrats.org/event/fundraiser-for-supreme-court-candidate-sherri-brooks-morton/
LOCATION:The Fort Orange Club\, 110 Washington Avenue\, Albany\, NY
END:VEVENT
BEGIN:VEVENT
DTSTART;TZID=America/New_York:20230919T180000
DTEND;TZID=America/New_York:20230919T200000
DTSTAMP:20260425T193510
CREATED:20230912T005521Z
LAST-MODIFIED:20230912T005521Z
UID:2570-1695146400-1695153600@albanycountydemocrats.org
SUMMARY:ACYD Installation Celebration
DESCRIPTION:
URL:https://albanycountydemocrats.org/event/acyd-installation-celebration/
LOCATION:The Argus\, 8 Thurlow Terrace\, Albany
END:VEVENT
BEGIN:VEVENT
DTSTART;TZID=America/New_York:20230919T170000
DTEND;TZID=America/New_York:20230919T190000
DTSTAMP:20260425T193510
CREATED:20230829T152554Z
LAST-MODIFIED:20230829T152554Z
UID:2538-1695142800-1695150000@albanycountydemocrats.org
SUMMARY:Re-Elect Marc Dorsey for Bethlehem Highway Superintendent
DESCRIPTION:
URL:https://albanycountydemocrats.org/event/re-elect-marc-dorsey-for-bethlehem-highway-superintendent/
LOCATION:The Real McCoy Beer Co.\, 20 Hallwood Road\, Delmar\, NY
END:VEVENT
BEGIN:VEVENT
DTSTART;TZID=America/New_York:20230919T080000
DTEND;TZID=America/New_York:20230919T100000
DTSTAMP:20260425T193510
CREATED:20230912T004337Z
LAST-MODIFIED:20230912T004337Z
UID:2557-1695110400-1695117600@albanycountydemocrats.org
SUMMARY:Fundraiser for Supreme Court candidate Daniel Lynch
DESCRIPTION:
URL:https://albanycountydemocrats.org/event/fundraiser-for-supreme-court-candidate-daniel-lynch/
LOCATION:The Fort Orange Club\, 110 Washington Avenue\, Albany\, NY
END:VEVENT
BEGIN:VEVENT
DTSTART;TZID=America/New_York:20230915T170000
DTEND;TZID=America/New_York:20230915T193000
DTSTAMP:20260425T193510
CREATED:20230829T151922Z
LAST-MODIFIED:20230829T151922Z
UID:2535-1694797200-1694806200@albanycountydemocrats.org
SUMMARY:Joanne Cunningham's Campaign Happy Hour
DESCRIPTION:
URL:https://albanycountydemocrats.org/event/joanne-cunninghams-campaign-happy-hour/
LOCATION:430 Delaware Avenue\, 430 Delaware Avenue\, Delmar\, NY
END:VEVENT
END:VCALENDAR