BEGIN:VCALENDAR
VERSION:2.0
PRODID:-//Albany County Democratic Committee - ECPv6.7.0//NONSGML v1.0//EN
CALSCALE:GREGORIAN
METHOD:PUBLISH
X-ORIGINAL-URL:https://albanycountydemocrats.org
X-WR-CALDESC:Events for Albany County Democratic Committee
REFRESH-INTERVAL;VALUE=DURATION:PT1H
X-Robots-Tag:noindex
X-PUBLISHED-TTL:PT1H
BEGIN:VTIMEZONE
TZID:America/New_York
BEGIN:DAYLIGHT
TZOFFSETFROM:-0500
TZOFFSETTO:-0400
TZNAME:EDT
DTSTART:20230312T070000
END:DAYLIGHT
BEGIN:STANDARD
TZOFFSETFROM:-0400
TZOFFSETTO:-0500
TZNAME:EST
DTSTART:20231105T060000
END:STANDARD
BEGIN:DAYLIGHT
TZOFFSETFROM:-0500
TZOFFSETTO:-0400
TZNAME:EDT
DTSTART:20240310T070000
END:DAYLIGHT
BEGIN:STANDARD
TZOFFSETFROM:-0400
TZOFFSETTO:-0500
TZNAME:EST
DTSTART:20241103T060000
END:STANDARD
BEGIN:DAYLIGHT
TZOFFSETFROM:-0500
TZOFFSETTO:-0400
TZNAME:EDT
DTSTART:20250309T070000
END:DAYLIGHT
BEGIN:STANDARD
TZOFFSETFROM:-0400
TZOFFSETTO:-0500
TZNAME:EST
DTSTART:20251102T060000
END:STANDARD
END:VTIMEZONE
BEGIN:VEVENT
DTSTART;TZID=America/New_York:20250429T190000
DTEND;TZID=America/New_York:20250429T210000
DTSTAMP:20260425T102431
CREATED:20250424T101552Z
LAST-MODIFIED:20250424T101552Z
UID:3660-1745953200-1745960400@albanycountydemocrats.org
SUMMARY:Fundraiser for Assemblymember Gabriella Romero
DESCRIPTION:Join Assembly Speaker Carl Heastie and Albany County Democrats Chair Jake Crawford
URL:https://albanycountydemocrats.org/event/fundraiser-for-assemblymember-gabriella-romero/
LOCATION:Ama Cocina\, 4 Sheridan Ave\, Albany\, NY\, 12210
END:VEVENT
BEGIN:VEVENT
DTSTART;TZID=America/New_York:20250303T170000
DTEND;TZID=America/New_York:20250303T190000
DTSTAMP:20260425T102431
CREATED:20250206T210202Z
LAST-MODIFIED:20250206T210202Z
UID:3592-1741021200-1741028400@albanycountydemocrats.org
SUMMARY:Albany County Executive Dan McCoy Invites you to an Evening of Fun
DESCRIPTION:
URL:https://albanycountydemocrats.org/event/albany-county-executive-dan-mccoy-invites-you-to-an-evening-of-fun/
LOCATION:Ancient Order of the Hiberians\, 375 Ontario Street\, Albany\, New York
END:VEVENT
BEGIN:VEVENT
DTSTART;TZID=America/New_York:20250227T173000
DTEND;TZID=America/New_York:20250227T193000
DTSTAMP:20260425T102431
CREATED:20250206T211120Z
LAST-MODIFIED:20250206T211120Z
UID:3601-1740677400-1740684600@albanycountydemocrats.org
SUMMARY:The Re-election Campaign of Guilderland Town Councilwoman Amanda Beedle
DESCRIPTION:
URL:https://albanycountydemocrats.org/event/the-re-election-campaign-of-guilderland-town-councilwoman-amanda-beedle/
LOCATION:Tru by Hilton\, 1651 Western Ave\, Guilderland\, NY\, 12203
END:VEVENT
BEGIN:VEVENT
DTSTART;TZID=America/New_York:20250227T173000
DTEND;TZID=America/New_York:20250227T190000
DTSTAMP:20260425T102432
CREATED:20250213T125923Z
LAST-MODIFIED:20250213T125923Z
UID:3612-1740677400-1740682800@albanycountydemocrats.org
SUMMARY:Ginnie Farrell's Birthday and Re-Election to Albany Common Council!
DESCRIPTION:Come celebrate Albany Common Council Majority Leader Ginnie Farrell’s birthday and re-election to Albany’s 13th Ward.
URL:https://albanycountydemocrats.org/event/ginnie-farrells-birthday-and-re-election-to-albany-common-council/
LOCATION:Lynn’s Uptown Tavern\, 15 Colvin Ave\, Albany\, NY\, 12206
END:VEVENT
BEGIN:VEVENT
DTSTART;TZID=America/New_York:20250215T110000
DTEND;TZID=America/New_York:20250215T140000
DTSTAMP:20260425T102432
CREATED:20250213T124720Z
LAST-MODIFIED:20250213T124720Z
UID:3609-1739617200-1739628000@albanycountydemocrats.org
SUMMARY:Caucus Weekend with Assemblymember Gabriella Romero
DESCRIPTION:Welcome Reception and Open House \nLegislative Office Building Room 704
URL:https://albanycountydemocrats.org/event/caucus-weekend-with-assemblymember-gabriella-romero/
LOCATION:Legislative Office Building\, 198 State Street\, Albany\, 12210
END:VEVENT
BEGIN:VEVENT
DTSTART;TZID=America/New_York:20250213T200000
DTEND;TZID=America/New_York:20250213T230000
DTSTAMP:20260425T102432
CREATED:20250206T210510Z
LAST-MODIFIED:20250206T210510Z
UID:3594-1739476800-1739487600@albanycountydemocrats.org
SUMMARY:Pre Black and Puerto Rican Legislative Caucus Kick-Off Event
DESCRIPTION:Come experience the new Madison Theatre and mingle with local elected officials and business leaders from the Albany area.
URL:https://albanycountydemocrats.org/event/pre-black-and-puerto-rican-legislative-caucus-kick-off-event/
LOCATION:Madison Theatre\, 1036 Madison Avenue\, Albany\, New York
END:VEVENT
BEGIN:VEVENT
DTSTART;TZID=America/New_York:20250212T190000
DTEND;TZID=America/New_York:20250212T200000
DTSTAMP:20260425T102432
CREATED:20250206T205750Z
LAST-MODIFIED:20250206T205750Z
UID:3589-1739386800-1739390400@albanycountydemocrats.org
SUMMARY:Albany County Democratic Committee Meeting
DESCRIPTION:
URL:https://albanycountydemocrats.org/event/albany-county-democratic-committee-meeting-2/
LOCATION:The Labor Temple\, 890 3rd Street\, Albany\, NY\, 12206
END:VEVENT
BEGIN:VEVENT
DTSTART;TZID=America/New_York:20250211T173000
DTEND;TZID=America/New_York:20250211T190000
DTSTAMP:20260425T102432
CREATED:20250206T210705Z
LAST-MODIFIED:20250206T210705Z
UID:3599-1739295000-1739300400@albanycountydemocrats.org
SUMMARY:Deb Zamer is Running for Re-Election
DESCRIPTION:
URL:https://albanycountydemocrats.org/event/deb-zamer-is-running-for-re-election/
LOCATION:Martel’s Restaurant at Capital Hills\, 65 O’Neill Road\, Albany\, New York
END:VEVENT
BEGIN:VEVENT
DTSTART;TZID=America/New_York:20241217T180000
DTEND;TZID=America/New_York:20241217T200000
DTSTAMP:20260425T102432
CREATED:20241208T180850Z
LAST-MODIFIED:20241208T180850Z
UID:3546-1734458400-1734465600@albanycountydemocrats.org
SUMMARY:Guilderland Democratic Committee Holiday Party
DESCRIPTION:
URL:https://albanycountydemocrats.org/event/guilderland-democratic-committee-holiday-party-2/
LOCATION:Orchard Tavern West\, 2050 Western Avenue\, Guilderland\, New York\, 12084
END:VEVENT
BEGIN:VEVENT
DTSTART;TZID=America/New_York:20241212T173000
DTEND;TZID=America/New_York:20241212T193000
DTSTAMP:20260425T102432
CREATED:20241208T181425Z
LAST-MODIFIED:20241208T181425Z
UID:3549-1734024600-1734031800@albanycountydemocrats.org
SUMMARY:Reception to Support Joanne Cunningham
DESCRIPTION:
URL:https://albanycountydemocrats.org/event/reception-to-support-joanne-cunningham/
LOCATION:Martel’s Restaurant at Capital Hills\, 65 O’Neill Road\, Albany\, New York
END:VEVENT
BEGIN:VEVENT
DTSTART;TZID=America/New_York:20240602T160000
DTEND;TZID=America/New_York:20240602T190000
DTSTAMP:20260425T102432
CREATED:20240516T180748Z
LAST-MODIFIED:20240516T180748Z
UID:3236-1717344000-1717354800@albanycountydemocrats.org
SUMMARY:Celebration in Honor of Neil Breslin
DESCRIPTION:
URL:https://albanycountydemocrats.org/event/celebration-in-honor-of-neil-breslin/
LOCATION:Rocks\, 77 Central Avenue\, Albany\, NY
END:VEVENT
BEGIN:VEVENT
DTSTART;TZID=America/New_York:20240530T173000
DTEND;TZID=America/New_York:20240530T193000
DTSTAMP:20260425T102432
CREATED:20240516T175701Z
LAST-MODIFIED:20240516T175701Z
UID:3220-1717090200-1717097400@albanycountydemocrats.org
SUMMARY:Fundraiser - Jill Faison
DESCRIPTION:
URL:https://albanycountydemocrats.org/event/fundraiser-jill-faison/
LOCATION:The Fort Orange Club\, 110 Washington Avenue\, Albany\, NY
END:VEVENT
BEGIN:VEVENT
DTSTART;TZID=America/New_York:20240530T170000
DTEND;TZID=America/New_York:20240530T190000
DTSTAMP:20260425T102432
CREATED:20240516T180029Z
LAST-MODIFIED:20240516T180029Z
UID:3225-1717088400-1717095600@albanycountydemocrats.org
SUMMARY:Bethlehem "Meet the Candidates"
DESCRIPTION:
URL:https://albanycountydemocrats.org/event/bethlehem-meet-the-candidates/
LOCATION:Shogun of Delmar\, 318 Delaware Avenue\, Delmar
END:VEVENT
BEGIN:VEVENT
DTSTART;TZID=America/New_York:20240530T080000
DTEND;TZID=America/New_York:20240530T170000
DTSTAMP:20260425T102432
CREATED:20240516T180334Z
LAST-MODIFIED:20240516T180334Z
UID:3230-1717056000-1717088400@albanycountydemocrats.org
SUMMARY:New Scotland Democrats Spring Fundraiser
DESCRIPTION:
URL:https://albanycountydemocrats.org/event/new-scotland-democrats-spring-fundraiser-2/
LOCATION:Northern Barrell\, 10 N. Main Street #6\, Voorheesville
END:VEVENT
BEGIN:VEVENT
DTSTART;TZID=America/New_York:20240523T173000
DTEND;TZID=America/New_York:20240523T190000
DTSTAMP:20260425T102432
CREATED:20240516T175857Z
LAST-MODIFIED:20240516T175857Z
UID:3222-1716485400-1716490800@albanycountydemocrats.org
SUMMARY:Fundraiser - Jaime Czajka\, Jill Faison and Hon. Ricja Rice
DESCRIPTION:
URL:https://albanycountydemocrats.org/event/fundraiser-jaime-czajka-jill-faison-and-hon-ricja-rice/
LOCATION:Women’s Club of Albany\, 725 Madison Avenue\, Albany\, NY
END:VEVENT
BEGIN:VEVENT
DTSTART;TZID=America/New_York:20240522T180000
DTEND;TZID=America/New_York:20240522T200000
DTSTAMP:20260425T102432
CREATED:20240516T180637Z
LAST-MODIFIED:20240516T180637Z
UID:3233-1716400800-1716408000@albanycountydemocrats.org
SUMMARY:NYSYD Spring Fundraiser
DESCRIPTION:
URL:https://albanycountydemocrats.org/event/nysyd-spring-fundraiser/
LOCATION:The Hollow Bar & Kitchen\, 79 N Pearl Street\, Albany
END:VEVENT
BEGIN:VEVENT
DTSTART;TZID=America/New_York:20240522T170000
DTEND;TZID=America/New_York:20240522T190000
DTSTAMP:20260425T102432
CREATED:20240516T175559Z
LAST-MODIFIED:20240516T175559Z
UID:3218-1716397200-1716404400@albanycountydemocrats.org
SUMMARY:Fundraiser - Jeffery V. Jamison
DESCRIPTION:
URL:https://albanycountydemocrats.org/event/fundraiser-jeffery-v-jamison/
LOCATION:Martel’s Restaurant at Capital Hills\, 65 O’Neill Road\, Albany\, New York
END:VEVENT
BEGIN:VEVENT
DTSTART;TZID=America/New_York:20240521T173000
DTEND;TZID=America/New_York:20240521T193000
DTSTAMP:20260425T102432
CREATED:20240516T174645Z
LAST-MODIFIED:20240516T174645Z
UID:3207-1716312600-1716319800@albanycountydemocrats.org
SUMMARY:Fundraiser - Ginner Farrell for Assembly
DESCRIPTION:
URL:https://albanycountydemocrats.org/event/fundraiser-ginner-farrell-for-assembly/
LOCATION:The Eleven\, 262 Lark Street\, Albany\, New York
END:VEVENT
BEGIN:VEVENT
DTSTART;TZID=America/New_York:20240518T150000
DTEND;TZID=America/New_York:20240518T170000
DTSTAMP:20260425T102432
CREATED:20240516T175253Z
LAST-MODIFIED:20240516T175253Z
UID:3215-1716044400-1716051600@albanycountydemocrats.org
SUMMARY:Weekend Door Knocking with Gabriella Romero and Paige Allen
DESCRIPTION:
URL:https://albanycountydemocrats.org/event/weekend-door-knocking-with-gabriella-romero-and-paige-allen/
LOCATION:500 Madison Avenue\, 500 Madison Avenue\, Albany
END:VEVENT
BEGIN:VEVENT
DTSTART;TZID=America/New_York:20240518T123000
DTEND;TZID=America/New_York:20240518T170000
DTSTAMP:20260425T102432
CREATED:20240516T175008Z
LAST-MODIFIED:20240516T175008Z
UID:3211-1716035400-1716051600@albanycountydemocrats.org
SUMMARY:Reidy for Assembly Canvass and Litdrop
DESCRIPTION:
URL:https://albanycountydemocrats.org/event/reidy-for-assembly-canvass-and-litdrop/
LOCATION:28 W Parkwood\, 28 W Parkwood Street\, Albany\, NY\, 12203
END:VEVENT
BEGIN:VEVENT
DTSTART;TZID=America/New_York:20240518T083000
DTEND;TZID=America/New_York:20240518T103000
DTSTAMP:20260425T102432
CREATED:20240516T180209Z
LAST-MODIFIED:20240516T180209Z
UID:3228-1716021000-1716028200@albanycountydemocrats.org
SUMMARY:Colonie Democratic Committee Breakfast
DESCRIPTION:
URL:https://albanycountydemocrats.org/event/colonie-democratic-committee-breakfast/
LOCATION:Capital District Celtic Hall\, 430 New Karner Road\, Albany\, New York\, 12205
END:VEVENT
BEGIN:VEVENT
DTSTART;TZID=America/New_York:20240516T173000
DTEND;TZID=America/New_York:20240516T190000
DTSTAMP:20260425T102432
CREATED:20240516T180916Z
LAST-MODIFIED:20240516T180916Z
UID:3238-1715880600-1715886000@albanycountydemocrats.org
SUMMARY:Fundraiser - Hon. Ricja Rice
DESCRIPTION:
URL:https://albanycountydemocrats.org/event/fundraiser-hon-ricja-rice/
LOCATION:Martel’s Restaurant at Capital Hills\, 65 O’Neill Road\, Albany\, New York
END:VEVENT
BEGIN:VEVENT
DTSTART;TZID=America/New_York:20240425T173000
DTEND;TZID=America/New_York:20240425T190000
DTSTAMP:20260425T102432
CREATED:20240220T151325Z
LAST-MODIFIED:20240220T151425Z
UID:3169-1714066200-1714071600@albanycountydemocrats.org
SUMMARY:Earth Day Celebration in Honor of Paul Tonko
DESCRIPTION:
URL:https://albanycountydemocrats.org/event/earth-day-celebration-in-honor-of-paul-tonko/
LOCATION:Indian Ladder Farms Cidery & Brewery\, 342 Altamont Road\, Altamont\, NY
END:VEVENT
BEGIN:VEVENT
DTSTART;TZID=America/New_York:20240323T170000
DTEND;TZID=America/New_York:20240323T190000
DTSTAMP:20260425T102432
CREATED:20240213T144353Z
LAST-MODIFIED:20240213T144353Z
UID:3161-1711213200-1711220400@albanycountydemocrats.org
SUMMARY:St. Patrick’s Day Celebration in Support of Congressman Paul Tonko
DESCRIPTION:
URL:https://albanycountydemocrats.org/event/st-patricks-day-celebration-in-support-of-congressman-paul-tonko/
LOCATION:Ancient Order of the Hiberians\, 375 Ontario Street\, Albany\, New York
END:VEVENT
BEGIN:VEVENT
DTSTART;TZID=America/New_York:20240315T100000
DTEND;TZID=America/New_York:20240315T170000
DTSTAMP:20260425T102432
CREATED:20240214T192547Z
LAST-MODIFIED:20240214T192547Z
UID:3163-1710496800-1710522000@albanycountydemocrats.org
SUMMARY:Sheriff Apple’s Virtual Classic Fundraiser
DESCRIPTION:
URL:https://albanycountydemocrats.org/event/sheriff-apples-virtual-classic-fundraiser/
LOCATION:Normanside Country Club\, Delmar\, New York
END:VEVENT
BEGIN:VEVENT
DTSTART;TZID=America/New_York:20240217T110000
DTEND;TZID=America/New_York:20240217T130000
DTSTAMP:20260425T102432
CREATED:20240212T130636Z
LAST-MODIFIED:20240212T130741Z
UID:3157-1708167600-1708174800@albanycountydemocrats.org
SUMMARY:Pat Fahy Campaign Kickoff
DESCRIPTION:
URL:https://albanycountydemocrats.org/event/pat-fahy-campaign-kickoff/
LOCATION:Italian American Community Center\, 257 Washington Avenue Extension\, Albany\, NY
END:VEVENT
BEGIN:VEVENT
DTSTART;TZID=America/New_York:20240213T190000
DTEND;TZID=America/New_York:20240213T200000
DTSTAMP:20260425T102432
CREATED:20240129T120727Z
LAST-MODIFIED:20240129T120727Z
UID:3105-1707850800-1707854400@albanycountydemocrats.org
SUMMARY:Albany County Democratic Committee Meeting
DESCRIPTION:
URL:https://albanycountydemocrats.org/event/albany-county-democratic-committee-meeting/
LOCATION:430 New Karner Road\, 430 New Karner Road\, Albany\, NY\, 12205
END:VEVENT
BEGIN:VEVENT
DTSTART;TZID=America/New_York:20240120T110000
DTEND;TZID=America/New_York:20240120T130000
DTSTAMP:20260425T102432
CREATED:20240109T144651Z
LAST-MODIFIED:20240109T144651Z
UID:2968-1705748400-1705755600@albanycountydemocrats.org
SUMMARY:Brunch and Conversation in Support of Paul Tonko
DESCRIPTION:
URL:https://albanycountydemocrats.org/event/brunch-and-conversation-in-support-of-paul-tonko/
LOCATION:Spinners\, 22 Picotte Drive\, Albany\, New York
END:VEVENT
BEGIN:VEVENT
DTSTART;TZID=America/New_York:20231220T173000
DTEND;TZID=America/New_York:20231220T203000
DTSTAMP:20260425T102432
CREATED:20231206T013916Z
LAST-MODIFIED:20231206T013916Z
UID:2935-1703093400-1703104200@albanycountydemocrats.org
SUMMARY:Councilman Owusu Anane’s Annual Holiday Party
DESCRIPTION:
URL:https://albanycountydemocrats.org/event/councilman-owusu-ananes-annual-holiday-party/
LOCATION:The Argus\, 8 Thurlow Terrace\, Albany
END:VEVENT
BEGIN:VEVENT
DTSTART;TZID=America/New_York:20231214T173000
DTEND;TZID=America/New_York:20231214T193000
DTSTAMP:20260425T102432
CREATED:20231129T003330Z
LAST-MODIFIED:20231129T003330Z
UID:2932-1702575000-1702582200@albanycountydemocrats.org
SUMMARY:Corey Ellis 53rd Birthday Party and Fundraiser
DESCRIPTION:
URL:https://albanycountydemocrats.org/event/corey-ellis-53rd-birthday-party-and-fundraiser/
LOCATION:141 Washington Avenue\, 141 Washington Avenue\, Albany\, New York
END:VEVENT
END:VCALENDAR